BEGIN:VCALENDAR
PRODID:-//PINUTS.DE//UNI-BAYREUTH EVENTCALENDAR Version 2018.1//DE
VERSION:2.0
CALSCALE:GREGORIAN
METHOD:PUBLISH
X-WR-CALNAME:studierendenparlament
X-WR-TIMEZONE:Europe/Berlin
BEGIN:VTIMEZONE
TZID:Europe/Berlin
X-LIC-LOCATION:Europe/Berlin
BEGIN:DAYLIGHT
TZOFFSETFROM:+0100
TZOFFSETTO:+0200
TZNAME:CEST
DTSTART:19700329T020000
RRULE:FREQ=YEARLY;BYMONTH=3;BYDAY=-1SU
END:DAYLIGHT
BEGIN:STANDARD
TZOFFSETFROM:+0200
TZOFFSETTO:+0100
TZNAME:CET
DTSTART:19701025T030000
RRULE:FREQ=YEARLY;BYMONTH=10;BYDAY=-1SU
END:STANDARD
END:VTIMEZONE
BEGIN:VEVENT
DTSTAMP:20260421T022955Z
DTSTART:20260527T180000Z
UID:109682883_eventcalender@uni-bayreuth.de
ORGANIZER;CN=Team Veranstalungsmanagement:mailto:info@uni-bayreuth.de
STATUS:CONFIRMED
CATEGORIES:studierendenparlament
SUMMARY:11. Sitzung
DESCRIPTION:
LOCATION:Senatssaal der Universität Bayreuth (ZUV)
END:VEVENT
END:VCALENDAR